BEGIN:VCALENDAR
VERSION:2.0
PRODID:-//eventon.com NONSGML v1.0//EN
CALSCALE:GREGORIAN
METHOD:PUBLISH
BEGIN:VEVENT
UID:69e5a7cc01c79
DTSTAMP:20260420T041300Z
DTSTART:20260222T100000Z
DTEND:20260222T235900Z
LOCATION:
SUMMARY:RENCONTRE DE LA ZIZANIE - JOUR III
DESCRIPTION:10h-12h : rencontre VI12h-14h : repas dans l’Église14h-16h :
  rencontre VII16h-16h30 : clôture Le programme est susceptible d’être m
 odifié en fonction du déroulement de la journée. Dans le cadre des Renco
 ntres de la Zizanie\nhttps://www.sainf.ch/events/rencontre-de-la-zizanie-jo
 ur-iii/
URL:https://www.sainf.ch/events/rencontre-de-la-zizanie-jour-iii/
END:VEVENT
END:VCALENDAR