BEGIN:VCALENDAR
VERSION:2.0
PRODID:-//eventon.com NONSGML v1.0//EN
CALSCALE:GREGORIAN
METHOD:PUBLISH
BEGIN:VEVENT
UID:69e5a9807d19b
DTSTAMP:20260420T042016Z
DTSTART:20260221T110000Z
DTEND:20260221T235900Z
LOCATION:
SUMMARY:RENCONTRE DE LA ZIZANIE - JOUR II
DESCRIPTION:Par intermittence : atelier pain11h-13h : rencontre III13h-14h 
 : repas dans l’église14h-16h : rencontre IV16h-17h : pause17h : concert 
 Guitare Acoustique Fingerstyle &#8211; Vincent Schmidt\,  guitare18h : cél
 ébration oecuménique avec Jean-Baptiste Lipp\,  pasteur et Fabien Revol\,
   théologien catholique français19h-20h : collation dans l’église20h-2
 1h30 : rencontre V Le programme est susceptible[..]\nhttps://www.sainf.ch/e
 vents/rencontre-de-la-zizanie-jour-ii/
URL:https://www.sainf.ch/events/rencontre-de-la-zizanie-jour-ii/
END:VEVENT
END:VCALENDAR