BEGIN:VCALENDAR
VERSION:2.0
PRODID:-//eventon.com NONSGML v1.0//EN
CALSCALE:GREGORIAN
METHOD:PUBLISH
BEGIN:VEVENT
UID:69e5a759950e4
DTSTAMP:20260420T041105Z
DTSTART:20260220T180000Z
DTEND:20260220T235900Z
LOCATION:
SUMMARY:RENCONTRE DE LA ZIZANIE - JOUR I
DESCRIPTION:18h-18h30 : office19h00-21h : rencontre I21h-21h30 : collation2
 1h30-22h30 : rencontre II Le programme est susceptible d’être modifié e
 n fonction du déroulement de la soirée. Dans le cadre des Rencontres de l
 a Zizanie\nhttps://www.sainf.ch/events/rencontre-de-la-zizanie-jour-i/
URL:https://www.sainf.ch/events/rencontre-de-la-zizanie-jour-i/
END:VEVENT
END:VCALENDAR