BEGIN:VCALENDAR
VERSION:2.0
PRODID:-//eventon.com NONSGML v1.0//EN
CALSCALE:GREGORIAN
METHOD:PUBLISH
BEGIN:VEVENT
UID:69e5a88c7b964
DTSTAMP:20260420T041612Z
DTSTART:20260218T170000Z
DTEND:20260218T180000Z
LOCATION:
SUMMARY:Office des cendres
DESCRIPTION:Marc Donzé\,  prêtreBenjamin Corbaz\,  pasteur.Mazin Astefan\
 ,  prêtre Dans le cadre des Rencontres de la Zizanie\nhttps://www.sainf.ch
 /events/office-des-cendres-3/
URL:https://www.sainf.ch/events/office-des-cendres-3/
END:VEVENT
END:VCALENDAR