BEGIN:VCALENDAR
VERSION:2.0
PRODID:-//eventon.com NONSGML v1.0//EN
CALSCALE:GREGORIAN
METHOD:PUBLISH
BEGIN:VEVENT
UID:69e5a92c75efc
DTSTAMP:20260420T041852Z
DTSTART:20260328T170000Z
DTEND:20260328T180000Z
LOCATION:
SUMMARY:Messe des rameaux
DESCRIPTION:Joseph Demierre\,  prêtreMatthias Wirz\,  prédicateur Dans le
  cadre des Rencontres de la Zizanie\nhttps://www.sainf.ch/events/messe-des-
 rameaux-2/
URL:https://www.sainf.ch/events/messe-des-rameaux-2/
END:VEVENT
END:VCALENDAR