BEGIN:VCALENDAR
VERSION:2.0
PRODID:-//eventon.com NONSGML v1.0//EN
CALSCALE:GREGORIAN
METHOD:PUBLISH
BEGIN:VEVENT
UID:69e5a9230ae36
DTSTAMP:20260420T041843Z
DTSTART:20260321T170000Z
DTEND:20260321T180000Z
LOCATION:
SUMMARY:Culte
DESCRIPTION:Line Dépraz\,  pasteureMarie-Dominique Minassian\,  prédicatr
 iceOrgue : Benjamin Righetti Dans le cadre des Rencontres de la Zizanie\nht
 tps://www.sainf.ch/events/culte-160/
URL:https://www.sainf.ch/events/culte-160/
END:VEVENT
END:VCALENDAR