BEGIN:VCALENDAR
VERSION:2.0
PRODID:-//eventon.com NONSGML v1.0//EN
CALSCALE:GREGORIAN
METHOD:PUBLISH
BEGIN:VEVENT
UID:69e5a9771b4d3
DTSTAMP:20260420T042007Z
DTSTART:20260314T170000Z
DTEND:20260314T180000Z
LOCATION:
SUMMARY:Messe
DESCRIPTION:Mazin Astefan\,  prêtre catholique chrétienJohn Tomlinson\,  
 révérend père anglican Jean-Baptiste Lipp\,  pasteur\,  prédicateur Dan
 s le cadre des Rencontres de la Zizanie\nhttps://www.sainf.ch/events/messe-
 6/
URL:https://www.sainf.ch/events/messe-6/
END:VEVENT
END:VCALENDAR