BEGIN:VCALENDAR
VERSION:2.0
PRODID:-//eventon.com NONSGML v1.0//EN
CALSCALE:GREGORIAN
METHOD:PUBLISH
BEGIN:VEVENT
UID:69e5a896576c8
DTSTAMP:20260420T041622Z
DTSTART:20260307T170000Z
DTEND:20260307T180000Z
LOCATION:
SUMMARY:Culte
DESCRIPTION:André Joly\,  pasteurStefano Manfredi\,  prêtre\,  prédicate
 urOrgue : Benjamin Righetti Dans le cadre des Rencontres de la Zizanie\nhtt
 ps://www.sainf.ch/events/culte-159/
URL:https://www.sainf.ch/events/culte-159/
END:VEVENT
END:VCALENDAR