BEGIN:VCALENDAR
VERSION:2.0
PRODID:-//eventon.com NONSGML v1.0//EN
CALSCALE:GREGORIAN
METHOD:PUBLISH
BEGIN:VEVENT
UID:69e5a773b66db
DTSTAMP:20260420T041131Z
DTSTART:20260228T170000Z
DTEND:20260228T180000Z
LOCATION:
SUMMARY:Messe
DESCRIPTION:Stefano Manfredi\,  prêtreJean-François Ramelet\,  pasteur\, 
  prédicateur Dans le cadre des Rencontres de la Zizanie\nhttps://www.sainf
 .ch/events/messe-5/
URL:https://www.sainf.ch/events/messe-5/
END:VEVENT
END:VCALENDAR