BEGIN:VCALENDAR
VERSION:2.0
PRODID:-//eventon.com NONSGML v1.0//EN
CALSCALE:GREGORIAN
METHOD:PUBLISH
BEGIN:VEVENT
UID:69e5a88202e89
DTSTAMP:20260420T041602Z
DTSTART:20260221T170000Z
DTEND:20260221T180000Z
LOCATION:
SUMMARY:Célébration œcuménique
DESCRIPTION:Jean-Baptiste Lipp\,  pasteur Fabien Revol\,  théologien catho
 lique français Dans le cadres des Rencontres de la Zizanie\nhttps://www.sa
 inf.ch/events/culte-158/
URL:https://www.sainf.ch/events/culte-158/
END:VEVENT
END:VCALENDAR