BEGIN:VCALENDAR
VERSION:2.0
PRODID:-//eventon.com NONSGML v1.0//EN
CALSCALE:GREGORIAN
METHOD:PUBLISH
BEGIN:VEVENT
UID:69e74f0a80853
DTSTAMP:20260421T101850Z
DTSTART:20251019T170000Z
DTEND:20251019T235900Z
LOCATION:
SUMMARY:IMPROMPTU#6
DESCRIPTION:DIMANCHE 19 OCTOBRE – 17H Concert d&rsquo;orgue\,  Benjamin R
 ighetti SOPHIE BOUVIER AUSLÄNDER Sophie Bouvier Ausländer vit et travaill
 e à Lausanne. Diplômée (PhD) en 2019 de la Slade School of Fine Art\,  U
 CL\,  Londres\,  elle expose en Suisse et à l’étranger\,  dans des gale
 ries ou des musées. Son travail est présent[..]\nhttps://www.sainf.ch/eve
 nts/impromptu/
URL:https://www.sainf.ch/events/impromptu/
END:VEVENT
END:VCALENDAR