BEGIN:VCALENDAR
VERSION:2.0
PRODID:-//eventon.com NONSGML v1.0//EN
CALSCALE:GREGORIAN
METHOD:PUBLISH
BEGIN:VEVENT
UID:69e750355bdfe
DTSTAMP:20260421T102349Z
DTSTART:20250925T190000Z
DTEND:20250925T235900Z
LOCATION:
SUMMARY:ENTRE-TEMPS#3
DESCRIPTION:Jeudi 25 septembre &#8211; 19h ENTRE-TEMPS#3 Conversation avec 
 l’artiste et ses invités : Juri Steiner\,  Historien de l’art\,  direc
 teur du MCBA de Lausanne.Katharina Holderegger Rossier\,  Médiéviste\,  c
 ritique d’art et commissaire d’exposition (AICA).Jean-François Ramelet
 \,  Pasteur responsable de l’esprit sainf. Modératrice : Olivia Fahmy\
 ,  Historienne de l’art\,  curatrice et conservatrice à la Fondation[..]
 \nhttps://www.sainf.ch/events/entre-temps3/
URL:https://www.sainf.ch/events/entre-temps3/
END:VEVENT
END:VCALENDAR