BEGIN:VCALENDAR
VERSION:2.0
PRODID:-//eventon.com NONSGML v1.0//EN
CALSCALE:GREGORIAN
METHOD:PUBLISH
BEGIN:VEVENT
UID:69e7505aeb0e7
DTSTAMP:20260421T102426Z
DTSTART:20251016T200000Z
DTEND:20251016T235900Z
LOCATION:
SUMMARY:IMPROMPTU#5
DESCRIPTION:JEUDI 16 OCTOBRE – 20H Le quatuor pour la fin du temps (1940)
  d’Olivier MessiaenTim Crawford\,  violon.Claudia Reyes Segovia\,  clarin
 ette. Pau FernándezBenlloch\,  piano. Basile Ausländer\,  violoncelle.Mom
 ent convivial À la suite du finissage. SOPHIE BOUVIER AUSLÄNDER Sophie Bo
 uvier Ausländer vit et travaille à Lausanne. Diplômée (PhD) en 2019 de 
 la Slade[..]\nhttps://www.sainf.ch/events/impromptu5/
URL:https://www.sainf.ch/events/impromptu5/
END:VEVENT
END:VCALENDAR