BEGIN:VCALENDAR
VERSION:2.0
PRODID:-//eventon.com NONSGML v1.0//EN
CALSCALE:GREGORIAN
METHOD:PUBLISH
BEGIN:VEVENT
UID:69e74e70e9ede
DTSTAMP:20260421T101616Z
DTSTART:20251016T190000Z
DTEND:20251016T235900Z
LOCATION:
SUMMARY:Finissage
DESCRIPTION:JEUDI 16 OCTOBRE – 19H Rencontre avec l&rsquo;artisteBrève p
 artie officielle Suivi de IMPROMPTU#5Le quatuor pour la fin du temps (1940)
  d’Olivier MessiaenTim Crawford\,  violon.Claudia Reyes Segovia\,  clarin
 ette. Pau FernándezBenlloch\,  piano. Basile Ausländer\,  violoncelle.Mom
 ent convivial SOPHIE BOUVIER AUSLÄNDER Sophie Bouvier Ausländer vit et tr
 availle à Lausanne. Diplômée (PhD) en 2019 de[..]\nhttps://www.sainf.ch/
 events/finissage-2/
URL:https://www.sainf.ch/events/finissage-2/
END:VEVENT
END:VCALENDAR