BEGIN:VCALENDAR
VERSION:2.0
PRODID:-//eventon.com NONSGML v1.0//EN
CALSCALE:GREGORIAN
METHOD:PUBLISH
BEGIN:VEVENT
UID:69e74eefcee52
DTSTAMP:20260421T101823Z
DTSTART:20251009T190000Z
DTEND:20251009T235900Z
LOCATION:
SUMMARY:IMPROMPTU#4
DESCRIPTION:JEUDI 9 OCTOBRE – 19H Concert Lionel Friedli et Peter Zumthor
 \,  batterie et percussions SOPHIE BOUVIER AUSLÄNDER Sophie Bouvier Auslä
 nder vit et travaille à Lausanne. Diplômée (PhD) en 2019 de la Slade Sch
 ool of Fine Art\,  UCL\,  Londres\, elle expose en Suisse et à l’étrang
 er\,  dans des galeries ou des musées.[..]\nhttps://www.sainf.ch/events/im
 promptu4/
URL:https://www.sainf.ch/events/impromptu4/
END:VEVENT
END:VCALENDAR