BEGIN:VCALENDAR
VERSION:2.0
PRODID:-//eventon.com NONSGML v1.0//EN
CALSCALE:GREGORIAN
METHOD:PUBLISH
BEGIN:VEVENT
UID:69e750513dd19
DTSTAMP:20260421T102417Z
DTSTART:20251004T200000Z
DTEND:20251004T235900Z
LOCATION:
SUMMARY:IMPROMPTU#3
DESCRIPTION:SAMEDI 4 OCTOBRE â€“ 20H Concert Sylvie Courvoisier\,  pianodan
 s le cadre de la fÃªte de la Saint-FranÃ§ois En partenariat avec Interstice
 s &#8211; festival de musique pour piano et claviersÂ  SOPHIE BOUVIER AUSLÃ
 „NDER Sophie Bouvier AuslÃ¤nder vit et travaille Ã  Lausanne. DiplÃ´mÃ©e (P
 hD) en 2019 de la Slade School of Fine[..]\nhttps://www.sainf.ch/events/imp
 romptu3/
URL:https://www.sainf.ch/events/impromptu3/
END:VEVENT
END:VCALENDAR