BEGIN:VCALENDAR
VERSION:2.0
PRODID:-//eventon.com NONSGML v1.0//EN
CALSCALE:GREGORIAN
METHOD:PUBLISH
BEGIN:VEVENT
UID:69e7500b9e37f
DTSTAMP:20260421T102307Z
DTSTART:20250904T190000Z
DTEND:20250904T235900Z
LOCATION:
SUMMARY:IMPROMPTU#2
DESCRIPTION:JEUDI 4 SEPTEMBRE – 19H Concert Nicolas Masson\,  saxophone t
 énor et Colin Vallon\,  piano SOPHIE BOUVIER AUSLÄNDER Sophie Bouvier Aus
 länder vit et travaille à Lausanne. Diplômée (PhD) en 2019 de la Slade 
 School of Fine Art\,  UCL\,  Londres\, elle expose en Suisse et à l’étr
 anger\,  dans des galeries ou des musées.[..]\nhttps://www.sainf.ch/events
 /impromptu2/
URL:https://www.sainf.ch/events/impromptu2/
END:VEVENT
END:VCALENDAR