BEGIN:VCALENDAR
VERSION:2.0
PRODID:-//eventon.com NONSGML v1.0//EN
CALSCALE:GREGORIAN
METHOD:PUBLISH
BEGIN:VEVENT
UID:69e74fec0f529
DTSTAMP:20260421T102236Z
DTSTART:20250821T200000Z
DTEND:20250821T235900Z
LOCATION:
SUMMARY:IMPROMPTU#1
DESCRIPTION:JEUDI 21 AOÃ›T â€“ 20H Concert Nicole JohÃ¤nntgen\,  saxophone 
 alto SOPHIE BOUVIER AUSLÃ„NDER Sophie Bouvier AuslÃ¤nder vit et travaille Ã
   Lausanne. DiplÃ´mÃ©e (PhD) en 2019 de la Slade School of Fine Art\,  UCL\
 ,  Londres\, elle expose en Suisse et Ã  lâ€™Ã©tranger\,  dans des galeries
  ou des musÃ©es. Son travail est prÃ©sent[..]\nhttps://www.sainf.ch/events/
 impromptu1/
URL:https://www.sainf.ch/events/impromptu1/
END:VEVENT
END:VCALENDAR