BEGIN:VCALENDAR
VERSION:2.0
PRODID:-//eventon.com NONSGML v1.0//EN
CALSCALE:GREGORIAN
METHOD:PUBLISH
BEGIN:VEVENT
UID:69e74eab829a6
DTSTAMP:20260421T101715Z
DTSTART:20250821T190000Z
DTEND:20250821T235900Z
LOCATION:
SUMMARY:ENTRE-TEMPS#2
DESCRIPTION:JEUDI 21 AOÛT – 19H SOPHIE BOUVIER AUSLÄNDER Sophie Bouvier
  Ausländer vit et travaille à Lausanne. Diplômée (PhD) en 2019 de la Sl
 ade School of Fine Art\,  UCL\,  Londres\, elle expose en Suisse et à l’
 étranger\,  dans des galeries ou des musées. Son travail est présent dan
 s de nombreuses collections privées[..]\nhttps://www.sainf.ch/events/entre
 -temps2/
URL:https://www.sainf.ch/events/entre-temps2/
END:VEVENT
END:VCALENDAR