BEGIN:VCALENDAR
VERSION:2.0
PRODID:-//eventon.com NONSGML v1.0//EN
CALSCALE:GREGORIAN
METHOD:PUBLISH
BEGIN:VEVENT
UID:69e74ecad532d
DTSTAMP:20260421T101746Z
DTSTART:20250806T190000Z
DTEND:20250806T235900Z
LOCATION:
SUMMARY:L'an 80 après Hiroshima
DESCRIPTION:MERCREDI 6 AOÛT – 19H Lecture augmentée&nbsp;« L’Avenir
  pleuré d’avance »\,  une réécriture de l&rsquo;histoire de Noé par
 &nbsp;Günther Anders (1902-1992) Jean-François Ramelet\,  lectureVictor D
 ecamp\,  trombone et trompette basse SOPHIE BOUVIER AUSLÄNDER Sophie Bouvi
 er Ausländer vit et travaille à Lausanne. Diplômée de l’ECAL en 1990\
 ,  elle expose en Suisse et à l’étranger\,  dansdes[..]\nhttps://www.sa
 inf.ch/events/lan-80-apres-hiroshima/
URL:https://www.sainf.ch/events/lan-80-apres-hiroshima/
END:VEVENT
END:VCALENDAR