BEGIN:VCALENDAR
VERSION:2.0
PRODID:-//eventon.com NONSGML v1.0//EN
CALSCALE:GREGORIAN
METHOD:PUBLISH
BEGIN:VEVENT
UID:69e74f235006d
DTSTAMP:20260421T101915Z
DTSTART:20250703T190000Z
DTEND:20250703T235900Z
LOCATION:
SUMMARY:ENTRE-TEMPS#1
DESCRIPTION:JEUDI 3 JUILLET â€“ 19H Rencontre avec l&rsquo;artiste. SOPHIE 
 BOUVIER AUSLÃ„NDER Sophie Bouvier AuslÃ¤nder vit et travaille Ã  Lausanne. 
 DiplÃ´mÃ©e (PhD) en 2019 de la Slade School of Fine Art\,  UCL\,  Londres\,
  elle expose en Suisse et Ã  lâ€™Ã©tranger\,  dans des galeries ou des musÃ
 ©es. Son travail est prÃ©sent dans de[..]\nhttps://www.sainf.ch/events/entr
 e-temps1/
URL:https://www.sainf.ch/events/entre-temps1/
END:VEVENT
END:VCALENDAR