BEGIN:VCALENDAR
VERSION:2.0
PRODID:-//eventon.com NONSGML v1.0//EN
CALSCALE:GREGORIAN
METHOD:PUBLISH
BEGIN:VEVENT
UID:69e750039157a
DTSTAMP:20260421T102259Z
DTSTART:20250626T190000Z
DTEND:20250626T210000Z
LOCATION:
SUMMARY:Vernissage Contretemps
DESCRIPTION:JEUDI 26 JUIN – 19H Brève partie officielle Philippe Lavanch
 y\,  président de l’Association l’Hospitalité artistiqueSophie Bouvie
 r AusländerFlorence Grivel vice-présidente de l’Association l’Hospita
 lité artistique\,  Noémie Arnold\,  membre de l’Association l’Hospita
 lité artistiqueJean-François Ramelet\,  pasteur de l’esprit sainf Suivi
 e d’un apéritif&nbsp; SOPHIE BOUVIER AUSLÄNDER Sophie Bouvier Auslände
 r vit et travaille à Lausanne. Diplômée[..]\nhttps://www.sainf.ch/events
 /vernissage-contretemps-a-saint-francois/
URL:https://www.sainf.ch/events/vernissage-contretemps-a-saint-francois/
END:VEVENT
END:VCALENDAR